BEGIN:VCALENDAR
VERSION:2.0
PRODID:-//Gereja Katolik Santo Yakobus - ECPv6.10.3//NONSGML v1.0//EN
CALSCALE:GREGORIAN
METHOD:PUBLISH
X-ORIGINAL-URL:https://santoyakobus.org
X-WR-CALDESC:Events for Gereja Katolik Santo Yakobus
REFRESH-INTERVAL;VALUE=DURATION:PT1H
X-Robots-Tag:noindex
X-PUBLISHED-TTL:PT1H
BEGIN:VTIMEZONE
TZID:Asia/Krasnoyarsk
BEGIN:STANDARD
TZOFFSETFROM:+0700
TZOFFSETTO:+0700
TZNAME:+07
DTSTART:20210101T000000
END:STANDARD
END:VTIMEZONE
BEGIN:VEVENT
DTSTART;VALUE=DATE:20241109
DTEND;VALUE=DATE:20241111
DTSTAMP:20260419T070230
CREATED:20230411T062650Z
LAST-MODIFIED:20240917T034324Z
UID:4311-1731110400-1731283199@santoyakobus.org
SUMMARY:YCP - Arise Youth Fest (9 - 10 November 2024)
DESCRIPTION:Shalom! \nKomunitas Orang Muda Katolik (OMK) dan Young Catholic Professionals (YCP) Paroki St. Yakobus Surabaya berkolaborasi dengan komunitas Kategorial Muda + Pastoral Khas Keuskupan Surabaya untuk mengadakan acara Catholic Youth Festival 2024 yang bertema AR1SE! \nBanyak banget nih acaranya! Mulai dari Ekaristi\, Adorasi Terpimpin\, Seminar\, Talkshow\, Praise and Worship\, Workshop\, Expo\, dan masih banyak lagi \nPsst.. ada special guest stars juga lho \nYuk buruan daftar ya!\nClick link di bawah ini:\nyf24.santoyakobus.org \nAcaranya 9-10 Nov ‘24\ndi SCC Pakuwon Trade Center Surabaya \nSee ya there! God bless \n  \nCek AGENDA LAINNYA
URL:https://santoyakobus.org/event/ycpfest/
CATEGORIES:YCP (Young Catholic Professional)
ATTACH;FMTTYPE=image/jpeg:https://santoyakobus.org/wp-content/uploads/2023/04/YCP-OMK-Arise-Youth-Fest-9-November-2024-Paroki-Santo-Yakobus-Surabaya.jpg
END:VEVENT
BEGIN:VEVENT
DTSTART;TZID=Asia/Krasnoyarsk:20240821T191500
DTEND;TZID=Asia/Krasnoyarsk:20240821T210000
DTSTAMP:20260419T070230
CREATED:20230213T055511Z
LAST-MODIFIED:20240819T015924Z
UID:3725-1724267700-1724274000@santoyakobus.org
SUMMARY:YCPendence Day - Agustusan ala YCP (Rabu\, 21 Agustus 2024)
DESCRIPTION:Hi #YCPeeps! \nGa terasa udah pertengahan bulan Agustus nih! Artinyaa.. negara kita tercinta akan merayakan ulang tahunnya! Yay! \nYuk kita sama-sama merayakannya di acara YCP Connect bulan ini: \nHari\, Tanggal: Rabu\, 21 Agustus 2024\nJam: 19.15 WIB\nTempat: Ruang Klemens (Balai Paroki Belakang) Gereja St. Yakobus\nDresscode: Merah atau Putih \nDon’t miss it! Stay connected\, faithful\, and fruitful! \nSee you peeps! GBU \nCek AGENDA LAINNYA
URL:https://santoyakobus.org/event/ycp-connect/
CATEGORIES:DPP Bidang I,Paroki,Umum,YCP (Young Catholic Professional)
ATTACH;FMTTYPE=image/jpeg:https://santoyakobus.org/wp-content/uploads/2023/02/YCPendence-Day-21-Agustus-2024-Agustusan-ala-YCP-Paroki-Santo-Yakobus-Surabaya.jpg
END:VEVENT
BEGIN:VEVENT
DTSTART;TZID=Asia/Krasnoyarsk:20210915T191500
DTEND;TZID=Asia/Krasnoyarsk:20210915T191500
DTSTAMP:20260419T070230
CREATED:20210826T072445Z
LAST-MODIFIED:20210826T072720Z
UID:2835-1631733300-1631733300@santoyakobus.org
SUMMARY:YCP Connect with Father Kenny Ang
DESCRIPTION:Hello\, Young Catholic Professionals! \nPernah nggak nih dengar istilah ‘Extra Ecclesiam Nulla Salus’ (EENS)? Nah\, sebenarnya EENS ini artinya adalah ‘Di luar Gereja Katolik tidak ada keselamatan’. Banyak orang salah paham dengan ajaran ini lho\, dan menganggap Gereja Katolik ‘arogan‘ karena mengajarkan EENS. Namun sebenarnya kalau kita memahami alasannya\, maka kita melihat bahwa Kristuslah yang sesungguhnya memberikan prinsip EENS 😮 \nDaripada bingung\, penasaran\, dan salah mengartikan prinsip EENS ini\, yuk kita semua sebagai kaum muda Katolik ikut mendalami ajaran ini di rangkaian acara ‘YCP Connect’ yg akan datang 🤩 \n‘Extra Eclessiam Nulla Salus’\nBy: Father Kenny Ang\nRabu\, 15 September 2021\, 19.15 WIB\nVia ZOOM App (Max. 100 Participants) \nDon’t miss it! Stay connected\, faithful\, and healthy! See you guys! GBU 🤗😇 \n 
URL:https://santoyakobus.org/event/ycp-connect-with-father-kenny-ang/
CATEGORIES:Kelompok Kategorial,YCP (Young Catholic Professional)
ATTACH;FMTTYPE=image/jpeg:https://santoyakobus.org/wp-content/uploads/2021/08/244F4B64-6EB6-4C03-9F14-450B4A41260C-Amelia-Wulandari.jpg
END:VEVENT
END:VCALENDAR