BEGIN:VCALENDAR
VERSION:2.0
PRODID:-//Gereja Katolik Santo Yakobus - ECPv6.10.3//NONSGML v1.0//EN
CALSCALE:GREGORIAN
METHOD:PUBLISH
X-ORIGINAL-URL:https://santoyakobus.org
X-WR-CALDESC:Events for Gereja Katolik Santo Yakobus
REFRESH-INTERVAL;VALUE=DURATION:PT1H
X-Robots-Tag:noindex
X-PUBLISHED-TTL:PT1H
BEGIN:VTIMEZONE
TZID:Asia/Krasnoyarsk
BEGIN:STANDARD
TZOFFSETFROM:+0700
TZOFFSETTO:+0700
TZNAME:+07
DTSTART:20230101T000000
END:STANDARD
END:VTIMEZONE
BEGIN:VEVENT
DTSTART;TZID=Asia/Krasnoyarsk:20230524T183000
DTEND;TZID=Asia/Krasnoyarsk:20230524T183000
DTSTAMP:20260419T205930
CREATED:20230513T001758Z
LAST-MODIFIED:20230525T145122Z
UID:4455-1684953000-1684953000@santoyakobus.org
SUMMARY:Talk Show Mengenal Bunda Maria\, Lebih Dekat Lagi (Rabu\, 24 Mei 2023)
DESCRIPTION:FORM Pendaftaran \n﻿Loading… \nAtau melalui  santoyakobus.org/event/katekese \nMari\, mengenal Bunda Maria..lebih dekat lagi\nbersama\nRD Paulus Febriyanto dan RD FX Gunawan  \nRabu\, 24 Mei 2023\nPk 19.00 WIB (tepat) diawali dengan Doa Rosario Pk 18.30 WIB (tepat) \nTempat Balai Paroki Gereja St. Yakobus Surabaya \nAcaranya GRATIS \nInfo lebih lanjut: \n\nSdr Handi 0851 0090 8915\nSdri Yossie 0812 3496 1888\n\n#talkshow #katekese #bulanmaria #paroki #santoyakobus \nCek AGENDA LAINNYA
URL:https://santoyakobus.org/event/katekese/
CATEGORIES:DPP Bidang II,Sie Katekese,Umum,Wilayah
ATTACH;FMTTYPE=image/jpeg:https://santoyakobus.org/wp-content/uploads/2023/05/Talk-Show-Bulan-Maria-Mei-2023.jpg
END:VEVENT
END:VCALENDAR